BEGIN:VCALENDAR
VERSION:2.0
PRODID:-// - ECPv6.13.2.1//NONSGML v1.0//EN
CALSCALE:GREGORIAN
METHOD:PUBLISH
X-ORIGINAL-URL:https://scala-gastronomie.com
X-WR-CALDESC:Veranstaltungen für 
REFRESH-INTERVAL;VALUE=DURATION:PT1H
X-Robots-Tag:noindex
X-PUBLISHED-TTL:PT1H
BEGIN:VTIMEZONE
TZID:Europe/Berlin
BEGIN:DAYLIGHT
TZOFFSETFROM:+0100
TZOFFSETTO:+0200
TZNAME:CEST
DTSTART:20250330T010000
END:DAYLIGHT
BEGIN:STANDARD
TZOFFSETFROM:+0200
TZOFFSETTO:+0100
TZNAME:CET
DTSTART:20251026T010000
END:STANDARD
END:VTIMEZONE
BEGIN:VEVENT
DTSTART;TZID=Europe/Berlin:20250620T170000
DTEND;TZID=Europe/Berlin:20250620T235900
DTSTAMP:20260422T021023
CREATED:20250613T100022Z
LAST-MODIFIED:20250613T100654Z
UID:2591-1750438800-1750463940@scala-gastronomie.com
SUMMARY:Sundowner Suite
DESCRIPTION:Scala Sundowner Suite – Dein Freitag im Ehrenhof\n\n\n\n\n\n\n\n\n\n\n\n\n\nDie Scala-Sundowner-Suite ist Dein neues Wochenritual. Unter freiem Himmel – mit chilligem Sound\, Stil und Sonnenuntergang. Der Scala-Ehrenhof wird zur größten Afterwork-Location der Stadt. Mit direktem Durchgang zur Scala Gartenwirtschaft!!! Alles auf einem Gelände\, alles mit Geschmack! \n\n\n\nWeitere Infos
URL:https://scala-gastronomie.com/event/sundowner-suite-6/
LOCATION:Ehrenhof/Scala/Ludwigsburg\, Stuttgarter Str. 2\, Ludwigsburg\, 71638\, Germany
END:VEVENT
END:VCALENDAR