BEGIN:VCALENDAR
VERSION:2.0
PRODID:-// - ECPv6.13.2.1//NONSGML v1.0//EN
CALSCALE:GREGORIAN
METHOD:PUBLISH
X-ORIGINAL-URL:https://scala-gastronomie.com
X-WR-CALDESC:Veranstaltungen für 
REFRESH-INTERVAL;VALUE=DURATION:PT1H
X-Robots-Tag:noindex
X-PUBLISHED-TTL:PT1H
BEGIN:VTIMEZONE
TZID:Europe/Berlin
BEGIN:DAYLIGHT
TZOFFSETFROM:+0100
TZOFFSETTO:+0200
TZNAME:CEST
DTSTART:20250330T010000
END:DAYLIGHT
BEGIN:STANDARD
TZOFFSETFROM:+0200
TZOFFSETTO:+0100
TZNAME:CET
DTSTART:20251026T010000
END:STANDARD
END:VTIMEZONE
BEGIN:VEVENT
DTSTART;TZID=Europe/Berlin:20250822T170000
DTEND;TZID=Europe/Berlin:20250822T235900
DTSTAMP:20260421T232303
CREATED:20250818T194938Z
LAST-MODIFIED:20250819T161039Z
UID:2941-1755882000-1755907140@scala-gastronomie.com
SUMMARY:SUNDOWNER SPECIAL: AMORE FÜR ALLE! (NUMERO UNO)
DESCRIPTION:SCALA SUNDOWNER SPECIAL IM EHRENHOF NEBEN DEM SCALA. EINTRITT FREI!!!   \n\n\n\nGeöffnet ab 17 Uhr (chillige playlist)\, DJ ab 20 Uhr!    \n\n\n\n\n\n\n\nDie Ape der Weinhandlung SardoVino macht Halt für Euch im Ehrenhof! Caro und Alex\, die Inhaber der preisgekrönten italienischen Weinhandlung zeigen Euch heute sensationelle Weine aus Italien. Lernt diese supersympathischen Menschen kennen und probiert 6 hervorragende Tropfen (19-23 Uhr) am Weinstand. Holt Euch dann Euren Lieblingswein an der Theke und macht Urlaub im Ehrenhof! Drinks\, Spritz\, Bier & co wie immer auch vorhanden…   \n\n\n\nAm Pult wird DJ-Legende Uwe Sontheimer musikalisch durch den Abend führen.  Wer ihn kennt\, weiß Bescheid. Wer nicht\, lernt ihn heute lieben.   
URL:https://scala-gastronomie.com/event/sundowner-special-amore-fuer-alle/
LOCATION:Ehrenhof/Scala/Ludwigsburg\, Stuttgarter Str. 2\, Ludwigsburg\, 71638\, Germany
END:VEVENT
END:VCALENDAR