BEGIN:VCALENDAR
VERSION:2.0
PRODID:-// - ECPv6.13.2.1//NONSGML v1.0//EN
CALSCALE:GREGORIAN
METHOD:PUBLISH
X-ORIGINAL-URL:https://scala-gastronomie.com
X-WR-CALDESC:Veranstaltungen für 
REFRESH-INTERVAL;VALUE=DURATION:PT1H
X-Robots-Tag:noindex
X-PUBLISHED-TTL:PT1H
BEGIN:VTIMEZONE
TZID:Europe/Berlin
BEGIN:DAYLIGHT
TZOFFSETFROM:+0100
TZOFFSETTO:+0200
TZNAME:CEST
DTSTART:20250330T010000
END:DAYLIGHT
BEGIN:STANDARD
TZOFFSETFROM:+0200
TZOFFSETTO:+0100
TZNAME:CET
DTSTART:20251026T010000
END:STANDARD
END:VTIMEZONE
BEGIN:VEVENT
DTSTART;TZID=Europe/Berlin:20251224T110000
DTEND;TZID=Europe/Berlin:20251224T140000
DTSTAMP:20260421T174205
CREATED:20251207T111927Z
LAST-MODIFIED:20251209T190814Z
UID:3452-1766574000-1766584800@scala-gastronomie.com
SUMMARY:Heidnischer Mittag
DESCRIPTION:Liebe Gäste\, wir laden Euch ein:    \n\n\n\n \n\n\n\nBeim „Heidnischen Mittag“\, am 24. Dezember\, 11 – 14 Uhr wollen wir mit Euch das wohl ungewöhnlichste und stimmungsvollste Vorglühen des Jahres begehen. \n\n\n\nDer Name ist keine Provokation\, sondern ein augenzwinkernder Verweis auf die alten Festtraditionen rund um die Wintersonnenwende und die Raunächte – Zeiten von Licht\, Einkehr und Gemeinschaft\, die sich in anderer Symbolik auch im christlichen Weihnachtskontext wiederfinden. \n\n\n\nDie Gastro ist der Ort des „heiligen Genusses“. Wir nehmen weltliche Bedürfnisse ernst und umarmen liebevoll Menschen aller Herkunft. „Wir sind gewissermaßen die universelle Ökumene“\, so unser Scala-Wirt Pascal Fetzer. „Wir bieten einen Ort für das ‚WIR'“. \n\n\n\n \n\n\n\nBei unserem Heidnischen Mittag wird Wein und Schaumwein aus Magnumflaschen ausgeschenkt. Dazu gibt es weihnachtliche Cocktails\, Schönbuch-Weihnachtsbier\, kleine feine Speisen und alkoholfreie Alternativen. Ein DJ sorgt für entspannte Feiertagsstimmung. Den Rest macht Ihr\, verehrte Gäste!  \n\n\n\n \n\n\n\nDer Eintritt ist frei. \n\n\n\nBegleitet wird das Event von einem fantastischen Last-Minute-Shopping-Angebot besonderer regionaler Akteur*innen. Ihr könnt also Euren Spaß mit Geschenke einkaufen verbinden. Alles an einem Ort! \n\n\n\n \n\n\n\n\n@tintentief_federleicht & @re.art.z – Feder küsst Holz: Kalligraphie in alten Holzrahmen\n\n\n\n@miraherba_ayurveda – Sabine Deutscher mit Räucherperformance (Räucher-/Gewürzmischungen und wärmenden Tüchern aus Indien)\n\n\n\n@christopherherrmannofficial – Upcycling Mode & Kunstwerke\n\n\n\n@privatedrinkingaffairs – Bottled Cocktails für reichlich Trinkspaß zu Hause by @jonas_pda\n\n\n\n@hospiz.ludwigsburg – Infostand & Spendenbox\n\n\n\n\n \n\n\n\nBesonders erwähnen wollen wir den Stand der ökumenischen Hospizinitiative im Landkreis Ludwigsburg e.V.  Ihr habt die wunderbare Gelegenheit für diese wichtige Arbeit vor Ort zu spenden!     \n\n\n\n \n\n\n\nKOMMT ALLE ❤️❤️❤️ \n\n\n\n \n\n\n\nEuer Fetzer und das Scala-Gastro-Team
URL:https://scala-gastronomie.com/event/heidnischer-mittag/
END:VEVENT
END:VCALENDAR