BEGIN:VCALENDAR
VERSION:2.0
PRODID:-// - ECPv6.13.2.1//NONSGML v1.0//EN
CALSCALE:GREGORIAN
METHOD:PUBLISH
X-ORIGINAL-URL:https://scala-gastronomie.com
X-WR-CALDESC:Veranstaltungen für 
REFRESH-INTERVAL;VALUE=DURATION:PT1H
X-Robots-Tag:noindex
X-PUBLISHED-TTL:PT1H
BEGIN:VTIMEZONE
TZID:Europe/Berlin
BEGIN:DAYLIGHT
TZOFFSETFROM:+0100
TZOFFSETTO:+0200
TZNAME:CEST
DTSTART:20250330T010000
END:DAYLIGHT
BEGIN:STANDARD
TZOFFSETFROM:+0200
TZOFFSETTO:+0100
TZNAME:CET
DTSTART:20251026T010000
END:STANDARD
BEGIN:DAYLIGHT
TZOFFSETFROM:+0100
TZOFFSETTO:+0200
TZNAME:CEST
DTSTART:20260329T010000
END:DAYLIGHT
BEGIN:STANDARD
TZOFFSETFROM:+0200
TZOFFSETTO:+0100
TZNAME:CET
DTSTART:20261025T010000
END:STANDARD
END:VTIMEZONE
BEGIN:VEVENT
DTSTART;TZID=Europe/Berlin:20251231T210000
DTEND;TZID=Europe/Berlin:20260101T030000
DTSTAMP:20260421T155348
CREATED:20251025T142318Z
LAST-MODIFIED:20251119T123202Z
UID:3249-1767214800-1767236400@scala-gastronomie.com
SUMMARY:SCALA SILVESTER PARTY 25/26 
DESCRIPTION:Unser Silvester-Menü 2025\n\n\n\n(31.12.2025\, 18:00 bis ca. 22.45 Uhr)  \n\n\n\n\n\n\n\n\n\n\n\n\n\nAPÉRO\n\n\n\n\n\nAuster & HibiskusBete-HimbeershotPilztarte mit Taleggio \n\n\n\n\n\n\n\n\n\n\n\nVORSPEISE\n\n\n\n\n\nYellowfin Thunfisch | Gin-Gurke | Holunderaromen | Creme DoubleoderFassgereifter Schafskäse in warm & kalt | Gin-Gurke | Zitronenaromen | Grüne Olive \n\n\n\n\n\n\n\n\n\n\n\nZWISCHENGANG\n\n\n\n\n\nOktopus | Topinambur | Zwergorange | SalicorniaoderAgnolotti | Topinambur | Artischockenragout | Barrigoul \n\n\n\n\n\n\n\n\n\n\n\nHAUPTGANG\n\n\n\n\n\nZweierlei vom Bressehuhn | Sauternes-Jus | Sellerie | Erbsencreme | Kartoffelfumé | Burgunder TrüffeloderOfensellerie | Walnuss | Burgunder Trüffel | Quittenjus | Röstkartoffel \n\n\n\n\n\n\n\n\n\n\n\nDESSERT\n\n\n\n\n\nValrhona Alpaco Kakao | Maracuja | Banane | Salzige Erdnuss \n\n\n\n\n\n\n\n\n\n\n\nDRINKS\n\n\n\n\n\nAm Abend der Veranstaltung wird es eine Wein-Empfehlungskarte mit besonderen Tropfen aus Deutschland und Italien geben. Zum Einen mit Empfehlung zu den einzelnen Gängen (glasweise) zum Anderen eine Flaschenweinkarte. \n\n\n\n\n\n\n\n\n\n\n\nPREISE\n\n\n\n\n\n\ninkl. Apéritif 135€ \n\n\n\ninkl. Silvester-Party im ganzen Haus: 150€\n\n\n\nPreisvorteil für Menü-Gäste:13\,50€ gegenüber regulärem Eintritt zur Party\n\n\n\n\n\n\n\n\n\n\n\n\nRESERVIERUNG\n\n\n\n\n\nBitte sendet uns eine E-Mail an festefeiern@scala-gastronomie.deDarin bitten wir um folgende Angaben: \n\n\n\n\nAnzahl der Gäste\n\n\n\nAnzahl der vegetarischen Menüs\n\n\n\nAnzahl der Tickets für die große Party im gesamten Haus\, nach dem Menü\n\n\n\n\nWichtig: Reservierung zum Silvester-Menü nur per Vorkasse. Wir senden Euch im Anschluss an eure Anfrage\, unsere Kontodaten und bitten dann um zügige Überweisung\, so dass wir planen können. \n\n\n\n\n\n\n\n\n\n\n\nDen turbulenten Zeiten zum Trotz! Mama Scala ist für Euch da.  \n\n\n\nWir feiern den Übergang ins neue Jahr an unserem Ort der hedonistischen Harmonie. Seid dabei! \n\n\n\nDAS MOTTO LAUTET: ENERGIE DURCH NOSTALGIE. \n\n\n\nAuf 2 Floors erlebt ihr akustischen Hochgenuss mit einer der besten Musikanlagen Deutschlands! Tanzt\, fröhlich schwitzend\, ins neue Jahr.  \n\n\n\nGenießt die spektakuläre Atmosphäre im kuschelig warmen Ambiente des historischen Saals. \n\n\n\n\n\n\n\nAuf der Tanzfläche spielen die renommierten DJs „Uwe Sontheimer“ und „Karl-Francis-Bushell“ (Stuttgart)\, herzschlagartig bebenden Sound vergangener Zeiten. Classy! Stilecht! Mehr als billiges Hitgewitter. Handgemachte Musik\, die direkt ins Herz zielt.  \n\n\n\n\n\n\n\nAuf dem zweiten Floor (ab 23.30 Uhr) in unserer Scala Gastro: Melodischer Techno mit Extasefaktor. DJ Philipp Werner (Kowalski/Rocker33/0711Kollektiv)) ballert pulsierenden Zeitgeist. Bewegungsmeditationen für alle Konfessionen. Gedankenstrom-Stop. \n\n\n\n\n\n\n\nAn den Bars erwarten Euch:  \n\n\n\n– Signature Cocktails powered by PrivateDrinkingAffairs. \n\n\n\n– Feine Schaumweine und Weine aus Deutschland und Italien (bucht gerne im \n\n\n\nVorfeld eine Flasche 00.00 Uhr Bubbles). \n\n\n\n– Alkoholfreie Köstlichkeiten jenseits von Limo und Saftschorle. \n\n\n\n\n\n\n\n\n\n\n\n\n\n\n\nAbtanzen! Abschalten! Neustarten! \n\n\n\n\n\n\n\nBucht jetzt und spart!  \n\n\n\nTickets für unser Menü per Mail an: festefeiern@scala-gastronomie.de (s.o.) \n\n\n\nTickets\, (ausschließlich für die Party)\, online unter: https://www.scala.live \n\n\n\n\nEarly Bird Ticket // 28\,50 € bis 15.11.\n\n\n\nvon 15.11. – 30.11. // 31\,80 €\n\n\n\nab 1.12. // 36\,20 €\n\n\n\nAbendkasse 39\,00 €
URL:https://scala-gastronomie.com/event/scala-silvester-party-25-26/
END:VEVENT
END:VCALENDAR