BEGIN:VCALENDAR
VERSION:2.0
PRODID:-// - ECPv6.13.2.1//NONSGML v1.0//EN
CALSCALE:GREGORIAN
METHOD:PUBLISH
X-ORIGINAL-URL:https://scala-gastronomie.com
X-WR-CALDESC:Veranstaltungen für 
REFRESH-INTERVAL;VALUE=DURATION:PT1H
X-Robots-Tag:noindex
X-PUBLISHED-TTL:PT1H
BEGIN:VTIMEZONE
TZID:Europe/Berlin
BEGIN:DAYLIGHT
TZOFFSETFROM:+0100
TZOFFSETTO:+0200
TZNAME:CEST
DTSTART:20260329T010000
END:DAYLIGHT
BEGIN:STANDARD
TZOFFSETFROM:+0200
TZOFFSETTO:+0100
TZNAME:CET
DTSTART:20261025T010000
END:STANDARD
END:VTIMEZONE
BEGIN:VEVENT
DTSTART;TZID=Europe/Berlin:20260123T080000
DTEND;TZID=Europe/Berlin:20260125T183000
DTSTAMP:20260421T161034
CREATED:20260101T102736Z
LAST-MODIFIED:20260121T173613Z
UID:3514-1769155200-1769365800@scala-gastronomie.com
SUMMARY:Vegan Fine Dining - AUSGEBUCHT!
DESCRIPTION:Am 23.01.26 und 24.01.26 und 25.01.26 ist es wieder soweit! Passend zu „Veganuary“ begrüßt das Scala Küchenteam den ersten Gast des neuen Jahres. Das kulinarische Katapult wird Euch ungebremst in den Genuss-Orbit schiessen.  \n\n\n\n \n\n\n\n„Kathi Bretsch“ is in da house!“ \n\n\n\nDie Köchin/Winzerin/Künstlerin bringt lebensfreudige Anarchie mit und wirbelt 3 Tage lang mit dem Scala-Küchenteam umher.    \n\n\n\n6 Gänge veganes Menü in vollendeter Fine-Dining-Manier werden dabei in Eure Genusszentren eindringen – garantiert ohne Fleischersatz-Produkte! Mit dem Herzblut und Hirnschmalz dreier leidenschaftlicher KüchenhandwerkerInnen kreiert und vom gesamten Team der Scala Gastro feierlich zu euch in den Gastraum getragen. Auf Wunsch\, passend dazu: Alkoholfreie Getränke- oder Weinbegleitung. Lasst Euch dieses kulinarische Großereignis nicht entgehen!  \n\n\n\n \n\n\n\nDeshalb: Erzählt es allen Menschen\, die sich vegan ernähren und/oder nutzt die Gelegenheit und erweitert Euren Genusskosmos um eine weitere Galaxie. Es lohnt sich für alle! \n\n\n\nHarte Fakten:   \n\n\n\n\n23.01.26 | 18.30 – ca. 23 Uhr\n\n\n\n24.01.26 | 18.30 – ca. 23 Uhr\n\n\n\n25.01.26 | 18.30 – ca. 23 Uhr   \n\n\n\n\n \n\n\n\nKOSTEN FÜR 6-GÄNGE-MENÜ  115€ inkl. „Welcome-Drink“  \n\n\n\n(das genaue Menü wird hier noch veröffentlicht) \n\n\n\n\n\n\n\nReservierung: fetzer@scala-gastronomie.de oder unter: +49 7141 9563604
URL:https://scala-gastronomie.com/event/vegan-fine-dining/
END:VEVENT
END:VCALENDAR