BEGIN:VCALENDAR
VERSION:2.0
PRODID:-// - ECPv6.13.2.1//NONSGML v1.0//EN
CALSCALE:GREGORIAN
METHOD:PUBLISH
X-ORIGINAL-URL:https://scala-gastronomie.com
X-WR-CALDESC:Veranstaltungen für 
REFRESH-INTERVAL;VALUE=DURATION:PT1H
X-Robots-Tag:noindex
X-PUBLISHED-TTL:PT1H
BEGIN:VTIMEZONE
TZID:Europe/Berlin
BEGIN:DAYLIGHT
TZOFFSETFROM:+0100
TZOFFSETTO:+0200
TZNAME:CEST
DTSTART:20250330T010000
END:DAYLIGHT
BEGIN:STANDARD
TZOFFSETFROM:+0200
TZOFFSETTO:+0100
TZNAME:CET
DTSTART:20251026T010000
END:STANDARD
END:VTIMEZONE
BEGIN:VEVENT
DTSTART;TZID=Europe/Berlin:20250912T190000
DTEND;TZID=Europe/Berlin:20250912T235900
DTSTAMP:20260421T201941
CREATED:20250810T162150Z
LAST-MODIFIED:20250905T160149Z
UID:2805-1757703600-1757721540@scala-gastronomie.com
SUMMARY:Sundowner Suite
DESCRIPTION:Die Scala-Sundowner-Suite ist Dein Wochenritual. Unter freiem Himmel – mit chilligem Sound\, Stil und Sonnenuntergang. Der Scala-Ehrenhof wird zur größten Afterwork-Location der Stadt. Mit direktem Durchgang zur Scala Gartenwirtschaft!!! Alles auf einem Gelände\, alles mit Geschmack!
URL:https://scala-gastronomie.com/event/sundowner-suite-9/
LOCATION:Ehrenhof/Scala/Ludwigsburg\, Stuttgarter Str. 2\, Ludwigsburg\, 71638\, Germany
END:VEVENT
BEGIN:VEVENT
DTSTART;TZID=Europe/Berlin:20250919T190000
DTEND;TZID=Europe/Berlin:20250919T235900
DTSTAMP:20260421T201941
CREATED:20250905T160058Z
LAST-MODIFIED:20250905T160101Z
UID:3017-1758308400-1758326340@scala-gastronomie.com
SUMMARY:Sundowner Suite
DESCRIPTION:Die Scala-Sundowner-Suite ist Dein Wochenritual. Unter freiem Himmel – mit chilligem Sound\, Stil und Sonnenuntergang. Der Scala-Ehrenhof wird zur größten Afterwork-Location der Stadt. Mit direktem Durchgang zur Scala Gartenwirtschaft!!! Alles auf einem Gelände\, alles mit Geschmack!
URL:https://scala-gastronomie.com/event/sundowner-suite-10/
LOCATION:Ehrenhof/Scala/Ludwigsburg\, Stuttgarter Str. 2\, Ludwigsburg\, 71638\, Germany
END:VEVENT
BEGIN:VEVENT
DTSTART;TZID=Europe/Berlin:20250926T190000
DTEND;TZID=Europe/Berlin:20250926T235900
DTSTAMP:20260421T201941
CREATED:20250905T160405Z
LAST-MODIFIED:20250905T160422Z
UID:3020-1758913200-1758931140@scala-gastronomie.com
SUMMARY:Sundowner Suite
DESCRIPTION:Die Scala-Sundowner-Suite ist Dein Wochenritual. Unter freiem Himmel – mit chilligem Sound\, Stil und Sonnenuntergang. Der Scala-Ehrenhof wird zur größten Afterwork-Location der Stadt. Mit direktem Durchgang zur Scala Gartenwirtschaft!!! Alles auf einem Gelände\, alles mit Geschmack!
URL:https://scala-gastronomie.com/event/3020/
LOCATION:Ehrenhof/Scala/Ludwigsburg\, Stuttgarter Str. 2\, Ludwigsburg\, 71638\, Germany
END:VEVENT
END:VCALENDAR